BEGIN:VCALENDAR
VERSION:2.0
PRODID:-//ChamberMaster//Event Calendar 2.0//EN
METHOD:PUBLISH
X-PUBLISHED-TTL:P3D
REFRESH-INTERVAL:P3D
CALSCALE:GREGORIAN
BEGIN:VEVENT
DTSTART:20220701T180000Z
DTEND:20220701T190000Z
X-MICROSOFT-CDO-ALLDAYEVENT:FALSE
SUMMARY:Seven Falls Spa
DESCRIPTION:Grand Opening Ribbon Cutting for Seven Falls Spa!
X-ALT-DESC;FMTTYPE=text/html:Grand Opening Ribbon Cutting for Seven Falls Spa!
LOCATION:Seven Falls Spa 21751 Lake Forest Drive\, Ste. 107 Lake Forest\, CA 92630
UID:e.3598.3588605
SEQUENCE:3
DTSTAMP:20260423T053058Z
URL:http://lakeforestcachamberca.chambermaster.com/events/details/seven-falls-spa-3588605
END:VEVENT

END:VCALENDAR
