BEGIN:VCALENDAR
VERSION:2.0
PRODID:-//ChamberMaster//Event Calendar 2.0//EN
METHOD:PUBLISH
X-PUBLISHED-TTL:P3D
REFRESH-INTERVAL:P3D
CALSCALE:GREGORIAN
BEGIN:VEVENT
DTSTART:20220701T160000Z
DTEND:20220701T180000Z
X-MICROSOFT-CDO-ALLDAYEVENT:FALSE
SUMMARY:SBDC Eats
DESCRIPTION:Are you interested in starting your own food business\, SBDC EATS is a program that helps you learn what it takes to do so! Through this program\, you will be guided through the necessary steps to plan\, build\, and launch your food business and products in the marketplace. SBDC EATS will be taught fully virtually. This fast-paced course will help you in developing your business idea to start up your business in the food industry.\n\nSBDC EATS is a California Dream Fund approved program available only for businesses registered in Orange County and the Inland Empire. Learn more about the California Dream Fund here.\n\nDuring the program\, you will learn:\n\nSession One   Going from Idea to Concept\n\n\n	Do you have what it takes?\n	Steps to starting your food business\n	Types of food businesses\n	Competition\n	Your niche\n	Market Research\n\n\nClass Two   Setting up your Business\n\n\n	What are the different business entities?\n	Pieces you need to set up your business\n	Licensing and permits\n\n\nClass Three   Honing in on your Offerings\n\n\n	Your offerings\n	Recipes\n	Inventory\n	Pricing and costing\n\n\nClass Four   Starting to Sell\n\n\n	Cottage permits\n	Selling at events\n	Managers Certification\n\n\nClass Five   Managing your Business\n\n\n	Accounting methods\n	Financial Projections\n	Access to Capital\n\n\nClass Six   Getting the Word out\n\n\n	Marketing your business\n	Establishing your online presence\n	Steps to stand out and shine in a crowded market\n	Measuring your success\n\n\nThrough this program\, you will have the opportunity to be aligned with one of our food consultants and to schedule consultation sessions to discuss moving forward towards the launch of your business. You will be required to attend all six sessions.
X-ALT-DESC;FMTTYPE=text/html:<p style="box-sizing: border-box\; overflow-wrap: break-word\; margin: 0px 0px 20px\; color: rgb(97\, 97\, 97)\; font-size: 14px\; line-height: 1.8\; font-family: Roboto\, sans-serif\; background-color: rgb(255\, 255\, 255)\;">Are you interested in starting your own food business\, SBDC EATS is a program that helps you learn what it takes to do so! Through this program\, you will be guided through the necessary steps to plan\, build\, and launch your food business and products in the marketplace. SBDC EATS will be taught fully virtually. This fast-paced course will help you in developing your business idea to start up your business in the food industry.</p>\n\n<p style="box-sizing: border-box\; overflow-wrap: break-word\; margin: 0px 0px 20px\; color: rgb(97\, 97\, 97)\; font-size: 14px\; line-height: 1.8\; font-family: Roboto\, sans-serif\; background-color: rgb(255\, 255\, 255)\;">SBDC EATS is a California Dream Fund approved program available only for businesses registered in Orange County and the Inland Empire. Learn more about the&nbsp\;<a href="https://ociesmallbusiness.org/dream/" rel="noreferrer noopener" style="box-sizing: border-box\; background-color: transparent\; text-decoration-line: none\; font-family: Montserrat\, sans-serif\;" target="_blank">California Dream Fund here</a>.</p>\n\n<p style="box-sizing: border-box\; overflow-wrap: break-word\; margin: 0px 0px 20px\; color: rgb(97\, 97\, 97)\; font-size: 14px\; line-height: 1.8\; font-family: Roboto\, sans-serif\; background-color: rgb(255\, 255\, 255)\;"><span style="box-sizing: border-box\; font-weight: bolder\;">During the program\, you will learn:</span></p>\n\n<p style="box-sizing: border-box\; overflow-wrap: break-word\; margin: 0px 0px 20px\; color: rgb(97\, 97\, 97)\; font-size: 14px\; line-height: 1.8\; font-family: Roboto\, sans-serif\; background-color: rgb(255\, 255\, 255)\;">Session One &ndash\; Going from Idea to Concept</p>\n\n<ul style="box-sizing: border-box\; overflow-wrap: break-word\; margin-top: 0px\; margin-bottom: 0px\; border: 0px\; outline: 0px\; font-size: 16px\; vertical-align: baseline\; background: rgb(255\, 255\, 255)\; color: rgb(98\, 98\, 98)\; font-family: Montserrat\, -apple-system\, BlinkMacSystemFont\, &quot\;Segoe UI&quot\;\, Roboto\, sans-serif\;">\n	<li style="box-sizing: border-box\; margin-top: 0px\; margin-bottom: 0px\; border: 0px\; outline: 0px\; vertical-align: baseline\; background: transparent\;">Do you have what it takes?</li>\n	<li style="box-sizing: border-box\; margin-top: 0px\; margin-bottom: 0px\; border: 0px\; outline: 0px\; vertical-align: baseline\; background: transparent\;">Steps to starting your food business</li>\n	<li style="box-sizing: border-box\; margin-top: 0px\; margin-bottom: 0px\; border: 0px\; outline: 0px\; vertical-align: baseline\; background: transparent\;">Types of food businesses</li>\n	<li style="box-sizing: border-box\; margin-top: 0px\; margin-bottom: 0px\; border: 0px\; outline: 0px\; vertical-align: baseline\; background: transparent\;">Competition</li>\n	<li style="box-sizing: border-box\; margin-top: 0px\; margin-bottom: 0px\; border: 0px\; outline: 0px\; vertical-align: baseline\; background: transparent\;">Your niche</li>\n	<li style="box-sizing: border-box\; margin-top: 0px\; margin-bottom: 0px\; border: 0px\; outline: 0px\; vertical-align: baseline\; background: transparent\;">Market Research</li>\n</ul>\n\n<p style="box-sizing: border-box\; overflow-wrap: break-word\; margin: 0px 0px 20px\; color: rgb(97\, 97\, 97)\; font-size: 14px\; line-height: 1.8\; font-family: Roboto\, sans-serif\; background-color: rgb(255\, 255\, 255)\;">Class Two &ndash\; Setting up your Business</p>\n\n<ul style="box-sizing: border-box\; overflow-wrap: break-word\; margin-top: 0px\; margin-bottom: 0px\; border: 0px\; outline: 0px\; font-size: 16px\; vertical-align: baseline\; background: rgb(255\, 255\, 255)\; color: rgb(98\, 98\, 98)\; font-family: Montserrat\, -apple-system\, BlinkMacSystemFont\, &quot\;Segoe UI&quot\;\, Roboto\, sans-serif\;">\n	<li style="box-sizing: border-box\; margin-top: 0px\; margin-bottom: 0px\; border: 0px\; outline: 0px\; vertical-align: baseline\; background: transparent\;">What are the different business entities?</li>\n	<li style="box-sizing: border-box\; margin-top: 0px\; margin-bottom: 0px\; border: 0px\; outline: 0px\; vertical-align: baseline\; background: transparent\;">Pieces you need to set up your business</li>\n	<li style="box-sizing: border-box\; margin-top: 0px\; margin-bottom: 0px\; border: 0px\; outline: 0px\; vertical-align: baseline\; background: transparent\;">Licensing and permits</li>\n</ul>\n\n<p style="box-sizing: border-box\; overflow-wrap: break-word\; margin: 0px 0px 20px\; color: rgb(97\, 97\, 97)\; font-size: 14px\; line-height: 1.8\; font-family: Roboto\, sans-serif\; background-color: rgb(255\, 255\, 255)\;">Class Three &ndash\; Honing in on your Offerings</p>\n\n<ul style="box-sizing: border-box\; overflow-wrap: break-word\; margin-top: 0px\; margin-bottom: 0px\; border: 0px\; outline: 0px\; font-size: 16px\; vertical-align: baseline\; background: rgb(255\, 255\, 255)\; color: rgb(98\, 98\, 98)\; font-family: Montserrat\, -apple-system\, BlinkMacSystemFont\, &quot\;Segoe UI&quot\;\, Roboto\, sans-serif\;">\n	<li style="box-sizing: border-box\; margin-top: 0px\; margin-bottom: 0px\; border: 0px\; outline: 0px\; vertical-align: baseline\; background: transparent\;">Your offerings</li>\n	<li style="box-sizing: border-box\; margin-top: 0px\; margin-bottom: 0px\; border: 0px\; outline: 0px\; vertical-align: baseline\; background: transparent\;">Recipes</li>\n	<li style="box-sizing: border-box\; margin-top: 0px\; margin-bottom: 0px\; border: 0px\; outline: 0px\; vertical-align: baseline\; background: transparent\;">Inventory</li>\n	<li style="box-sizing: border-box\; margin-top: 0px\; margin-bottom: 0px\; border: 0px\; outline: 0px\; vertical-align: baseline\; background: transparent\;">Pricing and costing</li>\n</ul>\n\n<p style="box-sizing: border-box\; overflow-wrap: break-word\; margin: 0px 0px 20px\; color: rgb(97\, 97\, 97)\; font-size: 14px\; line-height: 1.8\; font-family: Roboto\, sans-serif\; background-color: rgb(255\, 255\, 255)\;">Class Four &ndash\; Starting to Sell</p>\n\n<ul style="box-sizing: border-box\; overflow-wrap: break-word\; margin-top: 0px\; margin-bottom: 0px\; border: 0px\; outline: 0px\; font-size: 16px\; vertical-align: baseline\; background: rgb(255\, 255\, 255)\; color: rgb(98\, 98\, 98)\; font-family: Montserrat\, -apple-system\, BlinkMacSystemFont\, &quot\;Segoe UI&quot\;\, Roboto\, sans-serif\;">\n	<li style="box-sizing: border-box\; margin-top: 0px\; margin-bottom: 0px\; border: 0px\; outline: 0px\; vertical-align: baseline\; background: transparent\;">Cottage permits</li>\n	<li style="box-sizing: border-box\; margin-top: 0px\; margin-bottom: 0px\; border: 0px\; outline: 0px\; vertical-align: baseline\; background: transparent\;">Selling at events</li>\n	<li style="box-sizing: border-box\; margin-top: 0px\; margin-bottom: 0px\; border: 0px\; outline: 0px\; vertical-align: baseline\; background: transparent\;">Managers Certification</li>\n</ul>\n\n<p style="box-sizing: border-box\; overflow-wrap: break-word\; margin: 0px 0px 20px\; color: rgb(97\, 97\, 97)\; font-size: 14px\; line-height: 1.8\; font-family: Roboto\, sans-serif\; background-color: rgb(255\, 255\, 255)\;">Class Five &ndash\; Managing your Business</p>\n\n<ul style="box-sizing: border-box\; overflow-wrap: break-word\; margin-top: 0px\; margin-bottom: 0px\; border: 0px\; outline: 0px\; font-size: 16px\; vertical-align: baseline\; background: rgb(255\, 255\, 255)\; color: rgb(98\, 98\, 98)\; font-family: Montserrat\, -apple-system\, BlinkMacSystemFont\, &quot\;Segoe UI&quot\;\, Roboto\, sans-serif\;">\n	<li style="box-sizing: border-box\; margin-top: 0px\; margin-bottom: 0px\; border: 0px\; outline: 0px\; vertical-align: baseline\; background: transparent\;">Accounting methods</li>\n	<li style="box-sizing: border-box\; margin-top: 0px\; margin-bottom: 0px\; border: 0px\; outline: 0px\; vertical-align: baseline\; background: transparent\;">Financial Projections</li>\n	<li style="box-sizing: border-box\; margin-top: 0px\; margin-bottom: 0px\; border: 0px\; outline: 0px\; vertical-align: baseline\; background: transparent\;">Access to Capital</li>\n</ul>\n\n<p style="box-sizing: border-box\; overflow-wrap: break-word\; margin: 0px 0px 20px\; color: rgb(97\, 97\, 97)\; font-size: 14px\; line-height: 1.8\; font-family: Roboto\, sans-serif\; background-color: rgb(255\, 255\, 255)\;">Class Six &ndash\; Getting the Word out</p>\n\n<ul style="box-sizing: border-box\; overflow-wrap: break-word\; margin-top: 0px\; margin-bottom: 0px\; border: 0px\; outline: 0px\; font-size: 16px\; vertical-align: baseline\; background: rgb(255\, 255\, 255)\; color: rgb(98\, 98\, 98)\; font-family: Montserrat\, -apple-system\, BlinkMacSystemFont\, &quot\;Segoe UI&quot\;\, Roboto\, sans-serif\;">\n	<li style="box-sizing: border-box\; margin-top: 0px\; margin-bottom: 0px\; border: 0px\; outline: 0px\; vertical-align: baseline\; background: transparent\;">Marketing your business</li>\n	<li style="box-sizing: border-box\; margin-top: 0px\; margin-bottom: 0px\; border: 0px\; outline: 0px\; vertical-align: baseline\; background: transparent\;">Establishing your online presence</li>\n	<li style="box-sizing: border-box\; margin-top: 0px\; margin-bottom: 0px\; border: 0px\; outline: 0px\; vertical-align: baseline\; background: transparent\;">Steps to stand out and shine in a crowded market</li>\n	<li style="box-sizing: border-box\; margin-top: 0px\; margin-bottom: 0px\; border: 0px\; outline: 0px\; vertical-align: baseline\; background: transparent\;">Measuring your success</li>\n</ul>\n\n<p style="box-sizing: border-box\; overflow-wrap: break-word\; margin: 0px 0px 20px\; color: rgb(97\, 97\, 97)\; font-size: 14px\; line-height: 1.8\; font-family: Roboto\, sans-serif\; background-color: rgb(255\, 255\, 255)\;">Through this program\, you will have the opportunity to be aligned with one of our food consultants and to schedule consultation sessions to discuss moving forward towards the launch of your business. You will be required to attend all six sessions.</p>\n
LOCATION:Webinar
UID:e.3598.3588593
SEQUENCE:3
DTSTAMP:20260421T215843Z
URL:http://lakeforestcachamberca.chambermaster.com/events/details/sbdc-eats-3588593
END:VEVENT

END:VCALENDAR
