BEGIN:VCALENDAR
VERSION:2.0
PRODID:-//ChamberMaster//Event Calendar 2.0//EN
METHOD:PUBLISH
X-PUBLISHED-TTL:P3D
REFRESH-INTERVAL:P3D
CALSCALE:GREGORIAN
BEGIN:VEVENT
DTSTART:20220620T160000Z
DTEND:20220621T230000Z
X-MICROSOFT-CDO-ALLDAYEVENT:FALSE
SUMMARY:Restaurant Expo
DESCRIPTION:This event is for Restaurant Staff and those in the Restaurant and Hospitality Industry. The Restaurant Expo is a FREE event for Restaurant Industry Staff. Come learn the latest trends in Marketing\, Employee Hiring\, Operations\, Menu Design and Technology. Hands on Workshops\, Training and Classes. Use promo code: lakeforrest Register here: https://restexpo.com
X-ALT-DESC;FMTTYPE=text/html:This event is for Restaurant Staff and those in the Restaurant and Hospitality Industry. The Restaurant Expo is a FREE event for Restaurant Industry Staff. Come learn the latest trends in Marketing\, Employee Hiring\, Operations\, Menu Design and Technology. Hands on Workshops\, Training and Classes. Use promo code: lakeforrest Register here: https://restexpo.com
LOCATION:Hilton Orange County
UID:e.3598.3588584
SEQUENCE:3
DTSTAMP:20260422T143745Z
URL:http://lakeforestcachamberca.chambermaster.com/events/details/restaurant-expo-3588584
END:VEVENT

END:VCALENDAR
