BEGIN:VCALENDAR
VERSION:2.0
PRODID:-//ChamberMaster//Event Calendar 2.0//EN
METHOD:PUBLISH
X-PUBLISHED-TTL:P3D
REFRESH-INTERVAL:P3D
CALSCALE:GREGORIAN
BEGIN:VEVENT
DTSTART;VALUE=DATE:20220726
DTEND;VALUE=DATE:20220730
TRANSP:TRANSPARENT
X-MICROSOFT-CDO-ALLDAYEVENT:TRUE
SUMMARY:2022 D.C. Legislative Summit
DESCRIPTION:Tuesday\, July 26 -  Welcome Reception\n\nWednesday\, July 27 - Capitol Hill Meetings\n\nThursday\, July 28 - Legislative Summit Meetings at the US Chamber\n\nFriday\, July 29 - Breakfast/Adjournment\n\n\n\n\n\nIndividual Tickets: $2\,500 includes registration\, hotel (7/26-29/22)\, welcome reception happy hour\, hosted breakfast/lunch/dinner (airfare not included) \n\n\n\n\n\nSponsorships are available. The Deadline to sponsor is June 15\, 2022. \n\n\n\n\n\nAll information can be found on the Coalition of California Chambers Orange County website: https://www.cccoc.info/services-6
X-ALT-DESC;FMTTYPE=text/html:<strong>Tuesday\, July 26</strong> -&nbsp\; Welcome Reception<br />\n<strong>Wednesday\, July 27</strong> - Capitol Hill Meetings<br />\n<strong>Thursday\, July 28</strong> - Legislative Summit Meetings at the US Chamber<br />\n<strong>Friday\, July 29 </strong>- Breakfast/Adjournment<br />\n<br />\n<br />\n<strong>Individual Tickets:</strong>&nbsp\;$2\,500 includes registration\, hotel (7/26-29/22)\, welcome reception happy hour\, hosted breakfast/lunch/dinner (airfare not included)&nbsp\;<br />\n<br />\n<br />\nSponsorships are available. The Deadline to sponsor is June 15\, 2022.&nbsp\;<br />\n<br />\n<br />\nAll information can be found on the Coalition of California Chambers Orange County website:&nbsp\;<a href="https://www.cccoc.info/services-6">https://www.cccoc.info/services-6</a>
LOCATION:The Westin Washington\, D.C. City Center
UID:e.3598.3588587
SEQUENCE:3
DTSTAMP:20260421T164704Z
URL:http://lakeforestcachamberca.chambermaster.com/events/details/2022-d-c-legislative-summit-3588587
END:VEVENT

END:VCALENDAR
